BEGIN:VCALENDAR
VERSION:2.0
PRODID:-//Peterborough Cat Rescue - ECPv6.15.20//NONSGML v1.0//EN
CALSCALE:GREGORIAN
METHOD:PUBLISH
X-WR-CALNAME:Peterborough Cat Rescue
X-ORIGINAL-URL:https://www.peterboroughcatrescue.org.uk
X-WR-CALDESC:Events for Peterborough Cat Rescue
REFRESH-INTERVAL;VALUE=DURATION:PT1H
X-Robots-Tag:noindex
X-PUBLISHED-TTL:PT1H
BEGIN:VTIMEZONE
TZID:Europe/London
BEGIN:DAYLIGHT
TZOFFSETFROM:+0000
TZOFFSETTO:+0100
TZNAME:BST
DTSTART:20240331T010000
END:DAYLIGHT
BEGIN:STANDARD
TZOFFSETFROM:+0100
TZOFFSETTO:+0000
TZNAME:GMT
DTSTART:20241027T010000
END:STANDARD
BEGIN:DAYLIGHT
TZOFFSETFROM:+0000
TZOFFSETTO:+0100
TZNAME:BST
DTSTART:20250330T010000
END:DAYLIGHT
BEGIN:STANDARD
TZOFFSETFROM:+0100
TZOFFSETTO:+0000
TZNAME:GMT
DTSTART:20251026T010000
END:STANDARD
BEGIN:DAYLIGHT
TZOFFSETFROM:+0000
TZOFFSETTO:+0100
TZNAME:BST
DTSTART:20260329T010000
END:DAYLIGHT
BEGIN:STANDARD
TZOFFSETFROM:+0100
TZOFFSETTO:+0000
TZNAME:GMT
DTSTART:20261025T010000
END:STANDARD
END:VTIMEZONE
BEGIN:VEVENT
DTSTART;TZID=Europe/London:20251102T120000
DTEND;TZID=Europe/London:20251102T150000
DTSTAMP:20260422T093105
CREATED:20251026T211721Z
LAST-MODIFIED:20251026T211721Z
UID:3708-1762084800-1762095600@www.peterboroughcatrescue.org.uk
SUMMARY:Peterborough Homing Day - 2nd November 2025
DESCRIPTION:Homing Day – Sunday 2nd November\, 12pm–3pm📍Colonel Dane Memorial Hall\, Church St\, Alwalton\, Peterborough PE7 3UU \nwhat3words location: ///tunnel.elite.basket \nWhat is what3words?what3words is a simple way to share exact locations. Every 3m square in the world has a unique combination of three words\, making it easy to find places. \nLooking to give a cat a forever home? Join us for our Homing Day!Come along between 12pm and 3pm to meet some of our adorable rescue cats and chat with our friendly volunteers. \nThings to know: \n\nOpen to all\, but you must be 18 or over to adopt. To view the cats you must be in a position to adopt.\nPlease bring photo ID\nCash and a secure pet carrier are required\n\nOur volunteers will be on hand to take your details and help match you with the purr-fect feline companion 🐱 \nParking is available. \nAdoptions are subject to an application process and suitability checks.
URL:https://www.peterboroughcatrescue.org.uk/event/peterborough-homing-day-2nd-november-2025/
LOCATION:Colonel Dane Memorial Hall\, Church Street\, Alwalton\, PE7 3UU\, United Kingdom
CATEGORIES:Homing Days
ATTACH;FMTTYPE=image/png:https://www.peterboroughcatrescue.org.uk/wp-content/uploads/2025/10/PCR-HOMING-20251102.png
END:VEVENT
BEGIN:VEVENT
DTSTART;TZID=Europe/London:20251115T100000
DTEND;TZID=Europe/London:20251115T150000
DTSTAMP:20260422T093105
CREATED:20251021T101437Z
LAST-MODIFIED:20251021T102315Z
UID:3629-1763200800-1763218800@www.peterboroughcatrescue.org.uk
SUMMARY:Christmas Shopping Event - Folksworth
DESCRIPTION:Join us at Folksworth Village Hall on Saturday\, 15th November\, from 10:00am to 3:00pm for our Christmas Shopping Event in support of Peterborough Cat Rescue. \nBrowse a wide variety of new and second-hand items\, ideal for Christmas gifts and stocking fillers.\nEnjoy homemade refreshments and take a break in our seating area\, where you can relax\, chat with friends\, and meet members of the PCR community.Every purchase helps raise vital funds to support local cats in need so come along\, shop\, and make a difference this festive season!
URL:https://www.peterboroughcatrescue.org.uk/event/christmas-shopping-event-folksworth/
LOCATION:Folksworth Village Hall\, 29 Manor Road\, Folksworth\, PE7 3SU\, United Kingdom
CATEGORIES:Christmas Event
ATTACH;FMTTYPE=image/png:https://www.peterboroughcatrescue.org.uk/wp-content/uploads/2025/10/4_20251021_111527_0003.png
END:VEVENT
BEGIN:VEVENT
DTSTART;TZID=Europe/London:20251122T130000
DTEND;TZID=Europe/London:20251122T153000
DTSTAMP:20260422T093105
CREATED:20251021T101742Z
LAST-MODIFIED:20251021T102313Z
UID:3634-1763816400-1763825400@www.peterboroughcatrescue.org.uk
SUMMARY:Christmas Shopping Event - Yaxley
DESCRIPTION:Join us at Folksworth Village Hall on Saturday\, 22nd November\, from 1:00pm to 3:30pm for our Christmas Shopping Event in support of Peterborough Cat Rescue. \nBrowse a wide variety of new and second-hand items\, ideal for Christmas gifts and stocking fillers.\nEnjoy homemade refreshments and take a break in our seating area\, where you can relax\, chat with friends\, and meet members of the PCR community.Every purchase helps raise vital funds to support local cats in need so come along\, shop\, and make a difference this festive season!
URL:https://www.peterboroughcatrescue.org.uk/event/christmas-shopping-event-yaxley/
LOCATION:St B’s Hall\, 37 Main Street\, Yaxley\, PE7 3LZ\, United Kingdom
CATEGORIES:Christmas Event
ATTACH;FMTTYPE=image/png:https://www.peterboroughcatrescue.org.uk/wp-content/uploads/2025/10/5_20251021_111527_0004.png
END:VEVENT
BEGIN:VEVENT
DTSTART;TZID=Europe/London:20251123T120000
DTEND;TZID=Europe/London:20251123T150000
DTSTAMP:20260422T093105
CREATED:20251117T113152Z
LAST-MODIFIED:20251117T113152Z
UID:3872-1763899200-1763910000@www.peterboroughcatrescue.org.uk
SUMMARY:Peterborough Homing Day – 23rd September 2025
DESCRIPTION:Homing Day – Sunday 23rd November\, 12pm–3pm📍Bedford Hall\, Thorney\, PE6 0QE \nwhat3words location: ///campers.regrowth.tanks \nWhat is what3words?what3words is a simple way to share exact locations. Every 3m square in the world has a unique combination of three words\, making it easy to find places. \nLooking to give a cat a forever home? Join us for our Homing Day!Come along between 12pm and 3pm to meet some of our adorable rescue cats and chat with our friendly volunteers. \nThings to know: \n\nOpen to all\, but you must be 18 or over to adopt. To view the cats you must be in a position to adopt.\nPlease bring photo ID\nCash and a secure pet carrier are required\n\nOur volunteers will be on hand to take your details and help match you with the purr-fect feline companion 🐱 \nCommunual parking is available. \nAdoptions are subject to an application process and suitability checks.
URL:https://www.peterboroughcatrescue.org.uk/event/peterborough-homing-day-23rd-september-2025/
LOCATION:Bedford Hall\, Station Road\, Thorney\, PE6 0QE\, United Kingdom
CATEGORIES:Homing Days
ATTACH;FMTTYPE=image/png:https://www.peterboroughcatrescue.org.uk/wp-content/uploads/2025/11/Adoption-Homing-Day-Thorney-23112025.png
END:VEVENT
END:VCALENDAR